BEGIN:VCALENDAR
VERSION:2.0
PRODID:-//Stigma Enigma - ECPv6.15.15//NONSGML v1.0//EN
CALSCALE:GREGORIAN
METHOD:PUBLISH
X-WR-CALNAME:Stigma Enigma
X-ORIGINAL-URL:https://stigmaenigma.ca
X-WR-CALDESC:Events for Stigma Enigma
REFRESH-INTERVAL;VALUE=DURATION:PT1H
X-Robots-Tag:noindex
X-PUBLISHED-TTL:PT1H
BEGIN:VTIMEZONE
TZID:UTC
BEGIN:STANDARD
TZOFFSETFROM:+0000
TZOFFSETTO:+0000
TZNAME:UTC
DTSTART:20140101T000000
END:STANDARD
END:VTIMEZONE
BEGIN:VTIMEZONE
TZID:America/Toronto
BEGIN:DAYLIGHT
TZOFFSETFROM:-0500
TZOFFSETTO:-0400
TZNAME:EDT
DTSTART:20130310T070000
END:DAYLIGHT
BEGIN:STANDARD
TZOFFSETFROM:-0400
TZOFFSETTO:-0500
TZNAME:EST
DTSTART:20131103T060000
END:STANDARD
BEGIN:DAYLIGHT
TZOFFSETFROM:-0500
TZOFFSETTO:-0400
TZNAME:EDT
DTSTART:20140309T070000
END:DAYLIGHT
BEGIN:STANDARD
TZOFFSETFROM:-0400
TZOFFSETTO:-0500
TZNAME:EST
DTSTART:20141102T060000
END:STANDARD
BEGIN:DAYLIGHT
TZOFFSETFROM:-0500
TZOFFSETTO:-0400
TZNAME:EDT
DTSTART:20150308T070000
END:DAYLIGHT
BEGIN:STANDARD
TZOFFSETFROM:-0400
TZOFFSETTO:-0500
TZNAME:EST
DTSTART:20151101T060000
END:STANDARD
END:VTIMEZONE
BEGIN:VEVENT
DTSTART;TZID=UTC:20151007T080000
DTEND;TZID=UTC:20151007T170000
DTSTAMP:20260421T093953
CREATED:20151008T004903Z
LAST-MODIFIED:20151008T004903Z
UID:370-1444204800-1444237200@stigmaenigma.ca
SUMMARY:Mingle for Maryvale 2015
DESCRIPTION:
URL:https://stigmaenigma.ca/event/mingle-for-maryvale-2015/
LOCATION:Ontario
END:VEVENT
BEGIN:VEVENT
DTSTART;TZID=America/Toronto:20141108T200000
DTEND;TZID=America/Toronto:20141108T213000
DTSTAMP:20260421T093953
CREATED:20150625T232640Z
LAST-MODIFIED:20150625T232817Z
UID:260-1415476800-1415482200@stigmaenigma.ca
SUMMARY:Mingle for Maryvale
DESCRIPTION:8:00 – 8:15pm Introduction\n8:15pm Grace\n8:15 – 9:00pm Dinner\n9:00pm Eric Hipple Introduction\n9:05 – 9:10pm Eric Hipple Video\n9:10 – 9:30pm Eric Hipple Talk\n9:30pm Closing Remarks\n\n\nClosing Remarks\nOn behalf of the Stigma Enigma Committee we would like to thank the Freed’s family and St. Clair College for allowing us to be a part of this tournament\, Christine Prymack – wonderful job organizing the banquet\, Shannon Smith\, Rob and Nancy Campagna\, the Caboto Club and their staff\, and Eric Hipple for coming over to speak with us.  We wish all the players best of luck going forward.
URL:https://stigmaenigma.ca/event/mingle-for-maryvale/
LOCATION:Walkerville Brewery\, 525 Argyle Rd\, Windsor\, ON\, N8Y 4Z8\, Canada
ATTACH;FMTTYPE=image/jpeg:https://stigmaenigma.ca/wp-content/uploads/2015/06/Mingle-for-Maryvale.jpg
END:VEVENT
END:VCALENDAR